BEGIN:VCALENDAR
VERSION:2.0
CREATED:20260421T215226Z
PRODID:-//BigBear.ai Holdings\, Inc./Equisolve Calendar v1.0//EN
METHOD:PUBLISH
BEGIN:VEVENT
UID:99c0ae930e3374475490c8102df4051c
DTSTAMP:20260425T105457Z
DTSTART:20260505T203000Z
DTEND:20260505T213000Z
SUMMARY:First Quarter 2026 Earnings Event
DESCRIPTION:First Quarter 2026 Earnings Event\nDate: May 5\, 2026 • 4:30 PM EDT
END:VEVENT
END:VCALENDAR
